BEGIN:VCALENDAR
VERSION:2.0
PRODID:-//Pilots Rhein Main - ECPv6.15.20//NONSGML v1.0//EN
CALSCALE:GREGORIAN
METHOD:PUBLISH
X-ORIGINAL-URL:https://www.pilotsrheinmain.de
X-WR-CALDESC:Veranstaltungen für Pilots Rhein Main
REFRESH-INTERVAL;VALUE=DURATION:PT1H
X-Robots-Tag:noindex
X-PUBLISHED-TTL:PT1H
BEGIN:VTIMEZONE
TZID:Europe/Berlin
BEGIN:DAYLIGHT
TZOFFSETFROM:+0100
TZOFFSETTO:+0200
TZNAME:CEST
DTSTART:20250330T010000
END:DAYLIGHT
BEGIN:STANDARD
TZOFFSETFROM:+0200
TZOFFSETTO:+0100
TZNAME:CET
DTSTART:20251026T010000
END:STANDARD
BEGIN:DAYLIGHT
TZOFFSETFROM:+0100
TZOFFSETTO:+0200
TZNAME:CEST
DTSTART:20260329T010000
END:DAYLIGHT
BEGIN:STANDARD
TZOFFSETFROM:+0200
TZOFFSETTO:+0100
TZNAME:CET
DTSTART:20261025T010000
END:STANDARD
BEGIN:DAYLIGHT
TZOFFSETFROM:+0100
TZOFFSETTO:+0200
TZNAME:CEST
DTSTART:20270328T010000
END:DAYLIGHT
BEGIN:STANDARD
TZOFFSETFROM:+0200
TZOFFSETTO:+0100
TZNAME:CET
DTSTART:20271031T010000
END:STANDARD
END:VTIMEZONE
BEGIN:VEVENT
DTSTART;TZID=Europe/Berlin:20260802T090000
DTEND;TZID=Europe/Berlin:20260802T170000
DTSTAMP:20260422T194948
CREATED:20260418T125035Z
LAST-MODIFIED:20260418T125035Z
UID:625-1785661200-1785690000@www.pilotsrheinmain.de
SUMMARY:Pilots I vs. Main-Taunus Redwings 2 (Landesliga)
DESCRIPTION:
URL:https://www.pilotsrheinmain.de/event/pilots-i-vs-main-taunus-redwings-2-landesliga/
END:VEVENT
BEGIN:VEVENT
DTSTART;TZID=Europe/Berlin:20260809T090000
DTEND;TZID=Europe/Berlin:20260809T170000
DTSTAMP:20260422T194948
CREATED:20260418T125115Z
LAST-MODIFIED:20260418T125115Z
UID:627-1786266000-1786294800@www.pilotsrheinmain.de
SUMMARY:Pilots I vs. Erbach Grasshoppers (Landesliga)
DESCRIPTION:
URL:https://www.pilotsrheinmain.de/event/pilots-i-vs-erbach-grasshoppers-landesliga/
END:VEVENT
BEGIN:VEVENT
DTSTART;TZID=Europe/Berlin:20260822T090000
DTEND;TZID=Europe/Berlin:20260822T170000
DTSTAMP:20260422T194948
CREATED:20260418T125204Z
LAST-MODIFIED:20260418T125204Z
UID:629-1787389200-1787418000@www.pilotsrheinmain.de
SUMMARY:Pilots I @ Darmstadt Whippets 3 (Landesliga)
DESCRIPTION:
URL:https://www.pilotsrheinmain.de/event/pilots-i-darmstadt-whippets-3-landesliga/
END:VEVENT
END:VCALENDAR